BEGIN:VCALENDAR
VERSION:2.0
PRODID:-//ChamberMaster//Event Calendar 2.0//EN
METHOD:PUBLISH
X-PUBLISHED-TTL:P3D
REFRESH-INTERVAL:P3D
CALSCALE:GREGORIAN
BEGIN:VEVENT
DTSTART:20210513T190000Z
DTEND:20210513T210000Z
X-MICROSOFT-CDO-ALLDAYEVENT:FALSE
SUMMARY:Board of Directors Meeting
DESCRIPTION:Monthly meeting of the Board of Directors for the Asheville HBA. Board members are elected volunteer leaders who are responsible for the direction of the organization. The board governs\, develops policy and sets a course for the future. The board is responsible for maintaining focus on the mission and strategic goals. The four main functions of the board are Governance\, Policy & Position Development\, Visionary Future Focus and Fiduciary responsibilities.\n\n \n\nLearn more here.
X-ALT-DESC;FMTTYPE=text/html:<p>Monthly meeting of the Board of Directors for the Asheville HBA. Board members are elected volunteer leaders who are responsible for the direction of the organization. The board governs\, develops policy and sets a course for the future. The board is responsible for maintaining focus on the mission and strategic goals. The four main functions of the board are Governance\, Policy &amp\; Position Development\, Visionary Future Focus and Fiduciary responsibilities.<br />\n&nbsp\;</p>\n\n<p>Learn more <a href="https://ashevillehba.com/about/board-of-directors/">here</a>.</p>\n
LOCATION:Meeting held at Asheville Home Builders Association office. Contact Megan for details.
UID:e.9512.3364
SEQUENCE:3
DTSTAMP:20260425T141157Z
URL:https://members.bablueridge.com/events/details/board-of-directors-meeting-3364
END:VEVENT

END:VCALENDAR
