BEGIN:VCALENDAR
VERSION:2.0
PRODID:-//ChamberMaster//Event Calendar 2.0//EN
METHOD:PUBLISH
X-PUBLISHED-TTL:P3D
REFRESH-INTERVAL:P3D
CALSCALE:GREGORIAN
BEGIN:VEVENT
DTSTART:20200925T120000Z
DTEND:20200925T160000Z
X-MICROSOFT-CDO-ALLDAYEVENT:FALSE
SUMMARY:Beloved Village Work Day
DESCRIPTION:BeLoved Asheville is building deeply affordable\, sustainable\, and equitable homes rooted in community. 2018 saw a 50% increase in the chronic homeless population in Buncombe County. Asheville's rents have been ranked highest in NC and evictions are up as community members struggle to make ends meet. \n\n\n\nThe AHBA's Workforce Development and Social Committees are excited to partner with BeLoved to finish up their first micro home! We will be finishing a deck\, painting\, caulking\, laying floor\, framing a porch roof\, and more. Join us for lunch at noon in between volunteer shifts. We are excited to get this house finished as it is on this year's Parade of Homes! \n\n\n\nBe sure to bring a face covering and water!
X-ALT-DESC;FMTTYPE=text/html:BeLoved Asheville is building deeply affordable\, sustainable\, and equitable homes rooted in community. 2018 saw a 50% increase in the chronic homeless population in Buncombe County. Asheville&#39\;s rents have been ranked highest in NC and evictions are up as community members struggle to make ends meet.&nbsp\;<br />\n<br />\nThe AHBA&#39\;s Workforce Development and Social Committees are excited to partner with BeLoved to finish up their first micro home! We will be finishing a deck\, painting\, caulking\, laying floor\, framing a porch roof\, and more. Join us for lunch at noon in between volunteer shifts. We are excited to get this house finished as it is on this year&#39\;s Parade of Homes!&nbsp\;<br />\n<br />\nBe sure to bring a face covering and water!&nbsp\;
LOCATION:The address is 15 Overbrook Place 28805. The Beloved Model home is the blue house in the lower parking lot of Land of the Sky UCC Church.
UID:e.9512.3189
SEQUENCE:3
DTSTAMP:20260426T023533Z
URL:https://members.bablueridge.com/events/details/beloved-village-work-day-3189
END:VEVENT

END:VCALENDAR
