BEGIN:VCALENDAR
VERSION:2.0
PRODID:-//ChamberMaster//Event Calendar 2.0//EN
METHOD:PUBLISH
X-PUBLISHED-TTL:P3D
REFRESH-INTERVAL:P3D
CALSCALE:GREGORIAN
BEGIN:VEVENT
DTSTART:20220908T143000Z
DTEND:20220908T210000Z
X-MICROSOFT-CDO-ALLDAYEVENT:FALSE
SUMMARY:Battle of the Builders Cornhole Tournament
DESCRIPTION:It's time for the 9th Annual Battle of the Builders!  A double-elimination Corn Hole Tournament\, this annual favorite combines a fun afternoon of friendly competition and networking at K-Wall\, our location sponsor. This year is made extra special by having an Axe Throwing opportunity for folks between rounds of cornhole\, sponsored by 84 Lumber.\n\n\n\nIn addition to tournament play\, all team players will receive a BBQ Lunch sponsored by Hi-Tech Integrated Systems and catered by Wally's Backyard BBQ\, ice-cold beverages all day sponsored by HomeTrust Bank\, and of course a Battle of the Builders Player T-Shirt and Reverse Raffle Ticket!  Enjoy snacks from Union Home Mortgage while checking the scoreboards from MATH Insurance. Each Team will consist of four people broken into two teams of two. Each two-person team will have its own unique name. The winning team walks away with a $200 cash prize and bragging rights.\n\n \n\nInterested in attending but not playing in the tournament? Attendee Tickets are available for $30 which include Lunch\, Beverages\, a Reverse Raffle Ticket\, Axe Throwing and all the afternoon excitement! Event T-shirts can be purchased for an additional $10.\n\n\n\nIn case of inclement weather\, the tournament will be postponed to the next day\, September 9th.
X-ALT-DESC;FMTTYPE=text/html:<div>It&#39\;s time for the 9th Annual Battle of the Builders!&nbsp\; A double-elimination Corn Hole Tournament\, this annual favorite combines a fun afternoon of friendly competition and&nbsp\;networking at K-Wall\, our location sponsor. This year is made extra special by having an Axe Throwing opportunity for folks between rounds of cornhole\, sponsored by 84 Lumber.<br />\n<br />\nIn addition to tournament play\, all team players&nbsp\;will receive a BBQ Lunch sponsored by Hi-Tech Integrated Systems and catered by Wally&#39\;s Backyard BBQ\, ice-cold beverages all day sponsored by HomeTrust Bank\, and of course a Battle of the Builders Player T-Shirt and Reverse Raffle Ticket!&nbsp\; Enjoy snacks from Union Home Mortgage while checking the scoreboards from MATH Insurance.&nbsp\;Each Team&nbsp\;will consist of four people broken into two teams of two. Each two-person team will have its own unique name. The winning team walks away with a $200 cash prize and bragging rights.<br />\n&nbsp\;</div>\n\n<div>Interested in attending but not playing in the tournament? Attendee Tickets are available for $30&nbsp\;which include Lunch\, Beverages\, a Reverse Raffle Ticket\, Axe Throwing and all the afternoon excitement!&nbsp\;Event T-shirts can be purchased for an additional $10.<br />\n<br />\nIn case of inclement weather\, the tournament will be postponed to the next day\, September 9th.&nbsp\;</div>\n
LOCATION:
UID:e.9512.3975
SEQUENCE:3
DTSTAMP:20260424T122106Z
URL:https://members.bablueridge.com/events/details/battle-of-the-builders-cornhole-tournament-3975
END:VEVENT

END:VCALENDAR
