BEGIN:VCALENDAR
VERSION:2.0
PRODID:-//ChamberMaster//Event Calendar 2.0//EN
METHOD:PUBLISH
X-PUBLISHED-TTL:P3D
REFRESH-INTERVAL:P3D
CALSCALE:GREGORIAN
BEGIN:VEVENT
DTSTART:20200910T160000Z
DTEND:20200910T210000Z
X-MICROSOFT-CDO-ALLDAYEVENT:FALSE
SUMMARY:Battle of the Builders Cornhole Tournament
DESCRIPTION:It's time for the 7th Annual Battle of the Builders!  A double-elimination Corn Hole Tournament\, this annual favorite combines a fun afternoon of friendly competition and networking. \n\n\n\nIn addition to tournament play\, all team players will receive a BBQ Lunch sponsored by Hi-Tech Integrated Systems and catered by Wally's Backyard BBQ\, ice-cold beverages all day sponsored by K-Wall and of course a Battle of the Builders Player T-Shirt and Reverse Raffle Ticket!  Each Team will consist of four people broken into two teams of two. Each two person team will have its own unique name. Winning team walks away with $200 cash prize.\n\n \n\nInterested in attending but not playing in the tournament? Attendee Tickets are available for $20 which include Lunch\, Beverages\, a Reverse Raffle Ticket\, and all the afternoon excitement! Event T-shirts can be purchased for an additional $10.\n\n\n\nIn the case of inclement weather\, the tournament will be postponed to Friday\, September 11th.
X-ALT-DESC;FMTTYPE=text/html:<div>It&rsquo\;s time for the 7th Annual Battle of the Builders!&nbsp\; A double-elimination Corn Hole Tournament\, this annual favorite combines a fun afternoon of friendly competition and&nbsp\;networking.&nbsp\;<br />\n<br />\nIn addition to tournament play\, all team players&nbsp\;will receive a BBQ Lunch sponsored by Hi-Tech Integrated Systems and catered by Wally&rsquo\;s Backyard BBQ\, ice-cold beverages all day sponsored by K-Wall&nbsp\;and of course a Battle of the Builders Player T-Shirt and Reverse Raffle Ticket!&nbsp\; Each Team&nbsp\;will consist of four people broken into two teams of two. Each two person team will have its own unique name.&nbsp\;Winning team walks away with $200 cash prize.<br />\n&nbsp\;</div>\n\n<div>Interested in attending but not playing in the tournament? Attendee Tickets are available for $20 which include Lunch\, Beverages\, a Reverse Raffle Ticket\, and all the afternoon excitement!&nbsp\;Event T-shirts can be purchased for an additional $10.</div>\n\n<p><br />\n<strong>In the case of inclement weather\, the tournament will be postponed to Friday\, September 11th.</strong></p>\n
LOCATION:
UID:e.9512.3166
SEQUENCE:3
DTSTAMP:20260426T023748Z
URL:https://members.bablueridge.com/events/details/battle-of-the-builders-cornhole-tournament-3166
END:VEVENT

END:VCALENDAR
