BEGIN:VCALENDAR
VERSION:2.0
PRODID:-//ChamberMaster//Event Calendar 2.0//EN
METHOD:PUBLISH
X-PUBLISHED-TTL:P3D
REFRESH-INTERVAL:P3D
CALSCALE:GREGORIAN
BEGIN:VEVENT
DTSTART:20220714T213000Z
DTEND:20220714T230000Z
X-MICROSOFT-CDO-ALLDAYEVENT:FALSE
SUMMARY:Asheville Chamber After Hours at HomeSource
DESCRIPTION:Come join us for Business After Hours at HomeSource Design Center\n\n\n\nFeel free to bring a door prize gift to be given away near the close of the event. Bring your business cards for networking and to have a chance to win door prizes.\n\n\n\nClick here for more information.
X-ALT-DESC;FMTTYPE=text/html:Come join us for Business After Hours at HomeSource Design Center<br />\n<br />\nFeel free to bring a door prize gift to be given away near the close of the event. Bring your business cards for networking and to have a chance to win door prizes.<br />\n<br />\n<a href="https://web.ashevillechamber.org/events/JulyBusiness%20After%20Hours-7989/details">Click here for more information.</a>
LOCATION:HomeSource Design Center 172 Charlotte Street Asheville\, NC 28801
UID:e.9512.3846
SEQUENCE:3
DTSTAMP:20260424T164757Z
URL:https://members.bablueridge.com/events/details/asheville-chamber-after-hours-at-homesource-3846
END:VEVENT

END:VCALENDAR
