BEGIN:VCALENDAR
VERSION:2.0
PRODID:-//ChamberMaster//Event Calendar 2.0//EN
METHOD:PUBLISH
X-PUBLISHED-TTL:P3D
REFRESH-INTERVAL:P3D
CALSCALE:GREGORIAN
BEGIN:VEVENT
DTSTART:20210624T223000Z
DTEND:20210625T010000Z
X-MICROSOFT-CDO-ALLDAYEVENT:FALSE
SUMMARY:AHBA Night at the Tourists
DESCRIPTION:Support your local baseball team with a fun night out at McCormick Field to cheer on the Asheville Tourists! Bring your employees\, co-workers\, and family for an exciting evening including admission to our designated AHBA section!\n\nGame starts at 6:35
X-ALT-DESC;FMTTYPE=text/html:Support your local baseball team with a fun night out at McCormick Field to cheer on the Asheville Tourists! Bring your employees\, co-workers\, and family for an exciting evening including admission to our designated AHBA section!<br />\nGame starts at 6:35
LOCATION:30 Buchanan Pl\, Asheville\, NC 28801 McCormick Field
UID:e.9512.3385
SEQUENCE:3
DTSTAMP:20260425T123219Z
URL:https://members.bablueridge.com/events/details/ahba-night-at-the-tourists-3385
END:VEVENT

END:VCALENDAR
