BEGIN:VCALENDAR
VERSION:2.0
PRODID:-//ChamberMaster//Event Calendar 2.0//EN
METHOD:PUBLISH
X-PUBLISHED-TTL:P3D
REFRESH-INTERVAL:P3D
CALSCALE:GREGORIAN
BEGIN:VEVENT
DTSTART:20220811T223000Z
DTEND:20220812T010000Z
X-MICROSOFT-CDO-ALLDAYEVENT:FALSE
SUMMARY:AHBA & LOTSAR Night at the Tourists
DESCRIPTION:Support your local baseball team with a fun night out at McCormick Field to cheer on the Asheville Tourists! Bring your employees\, co-workers\, and family for an exciting evening including admission to our designated AHBA section! Tickets include food\, beverage/ice cream or other treat Tourist Bucks!\n\n\n\nGame starts at 6:35 \n\n\n\nBeloved will also join us to talk about their new build schedule and partnership opportunities. Come with your friends\, family and co-workers to enjoy a night outside.
X-ALT-DESC;FMTTYPE=text/html:Support your local baseball team with a fun night out at McCormick Field to cheer on the Asheville Tourists! Bring your employees\, co-workers\, and family for an exciting evening including admission to our designated AHBA section! Tickets include food\, beverage/ice cream or other treat Tourist Bucks!<br />\n<br />\nGame starts at 6:35&nbsp\;<br />\n<br />\nBeloved will also join us to talk about their new build schedule and partnership opportunities. Come with your friends\, family and co-workers to enjoy a night outside.&nbsp\;
LOCATION:30 Buchanan Pl\, Asheville\, NC 28801 McCormick Field
UID:e.9512.3832
SEQUENCE:3
DTSTAMP:20260424T133724Z
URL:https://members.bablueridge.com/events/details/ahba-lotsar-night-at-the-tourists-3832
END:VEVENT

END:VCALENDAR
