BEGIN:VCALENDAR
VERSION:2.0
PRODID:-//ChamberMaster//Event Calendar 2.0//EN
METHOD:PUBLISH
X-PUBLISHED-TTL:P3D
REFRESH-INTERVAL:P3D
CALSCALE:GREGORIAN
BEGIN:VEVENT
DTSTART:20221215T233000Z
DTEND:20221216T020000Z
X-MICROSOFT-CDO-ALLDAYEVENT:FALSE
SUMMARY:AHBA Holiday Party
DESCRIPTION:Celebrate this holiday season with the AHBA on December 15th from 6:30   9:00 pm. Enjoy an evening dressing as favorite holiday movie fun and good cheer with the Asheville HBA while you mingle over local craft brews\, enjoy a photo booth & a buffet sponsored by Builders FirstSource. \n\n\n\nAll AHBA Members on Record who attend will automatically be entered in a Reverse Raffle for a chance to win great prizes. \n\nRSVP Required - AHBA Members attend for Free and Guest Tickets are $35.\n\n\n\nThe AHBA is teaming up again with Toys for Tots! Bring a new\, unopened toy for donation with a construction or building theme. Ages 1-3 or 9-13. Cash or check donations will also be accepted.
X-ALT-DESC;FMTTYPE=text/html:<p style="box-sizing: border-box\; margin: 0px 0px 10px\; color: rgb(68\, 68\, 68)\; font-family: Verdana\, Geneva\, sans-serif\; font-size: 14px\;">Celebrate&nbsp\;this holiday season with the AHBA&nbsp\;on December 15th&nbsp\;from 6:30 &ndash\; 9:00 pm. Enjoy an evening dressing as&nbsp\;favorite holiday movie fun and good cheer with the Asheville HBA while you mingle over local craft brews\, enjoy a photo booth&nbsp\;&amp\; a buffet sponsored by Builders FirstSource.&nbsp\;<br />\n<br />\n<span style="box-sizing: border-box\; font-weight: 700\;">All AHBA Members on Record who attend will automatically be entered in a Reverse Raffle for a chance to win great prizes.&nbsp\;</span></p>\n\n<p style="box-sizing: border-box\; margin: 0px 0px 10px\; color: rgb(68\, 68\, 68)\; font-family: Verdana\, Geneva\, sans-serif\; font-size: 14px\;">RSVP Required -&nbsp\;AHBA Members attend for Free and Guest Tickets are $35.<br />\n<br />\nThe&nbsp\;AHBA&nbsp\;is teaming up again with <strong>Toys for Tots</strong>! Bring a new\, unopened toy for donation with a construction or building theme. Ages 1-3 or 9-13. Cash or check donations will also be accepted.&nbsp\;</p>\n
LOCATION:Highland Brewing Event Center 12 Old Charlotte Highway Asheville NC 28803
UID:e.9512.4101
SEQUENCE:3
DTSTAMP:20260424T071435Z
URL:https://members.bablueridge.com/events/details/ahba-holiday-party-4101
END:VEVENT

END:VCALENDAR
