BEGIN:VCALENDAR
VERSION:2.0
PRODID:-//ChamberMaster//Event Calendar 2.0//EN
METHOD:PUBLISH
X-PUBLISHED-TTL:P3D
REFRESH-INTERVAL:P3D
CALSCALE:GREGORIAN
BEGIN:VEVENT
DTSTART:20210218T210000Z
DTEND:20210218T223000Z
X-MICROSOFT-CDO-ALLDAYEVENT:FALSE
SUMMARY:AHBA Annual Meeting
DESCRIPTION:Every year\, the AHBA kicks off the new year with our Annual Meeting where we introduce your new AHBA President\, Board of Directors\, and 2021 Foundation Club Sponsors.\n\nThis year will be held virtually but is still a great opportunity to meet the board and introduce yourself to fellow members. \n\nCome hear Barry Bialik\, Compact Cottages & Affordable Housing Committee Chair speak on " How to leave with an extra lot & other development tricks".
X-ALT-DESC;FMTTYPE=text/html:<p><span style="color: rgb(68\, 68\, 68)\; font-family: Verdana\, Geneva\, sans-serif\; font-size: 14px\; background-color: rgb(255\, 255\, 255)\;">Every year\, the AHBA kicks off the new year with our Annual Meeting where we introduce your new AHBA President\, Board of Directors\, and 2021&nbsp\;Foundation Club Sponsors.<br />\nThis year will be held virtually but is still a great opportunity to meet the board and introduce yourself to fellow members.&nbsp\;</span></p>\n\n<p style="text-align:left\;">Come hear Barry Bialik\, Compact Cottages &amp\; Affordable Housing Committee Chair speak on &quot\; How to leave with an extra lot &amp\; other development tricks&quot\;.&nbsp\;</p>\n
LOCATION:Held via Zoom
UID:e.9512.3212
SEQUENCE:3
DTSTAMP:20260425T184917Z
URL:https://members.bablueridge.com/events/details/ahba-annual-meeting-3212
END:VEVENT

END:VCALENDAR
