BEGIN:VCALENDAR
VERSION:2.0
PRODID:-//ChamberMaster//Event Calendar 2.0//EN
METHOD:PUBLISH
X-PUBLISHED-TTL:P3D
REFRESH-INTERVAL:P3D
CALSCALE:GREGORIAN
BEGIN:VEVENT
DTSTART;VALUE=DATE:20220818
DTEND;VALUE=DATE:20220819
TRANSP:TRANSPARENT
X-MICROSOFT-CDO-ALLDAYEVENT:TRUE
SUMMARY:AHBA Annual Golf Tournament
DESCRIPTION:Tee off with fellow members for a great day of golf at The Golf Course at The Grove Park Inn.  This highly anticipated 'Captains Choice' tournament adds a twist to a fun day on the course. Teams of four are flighted by handicap - 1st place team in each flight wins a cash prize of $200! There will be two rounds\, an AM Round and a PM Round. If you sign up for a team and cannot fill it\, please let us know by August 1st so we can find a replacement for your team - otherwise you will be financially responsible for the team after August 1st. \n\n\n\nSocialize with Eagle Sponsors offering donuts\, BBQ\, wings\, beers\, and more throughout the course\, and join in a fun hand of Poker for the Poker Run Challenge. \n\n\n\nNeed help with your game? Teams or individuals can purchase Mulligans for two free shots\, which also enter you in a special Raffle for door prizes following the tournament.\n\n \n\nAugust 18\, 2022\n\nThe Golf Course at The Grove Park Inn\n\nRound 1: 7 AM Registration \n\n8:00 AM Shotgun Start\n\nRound 2: 1:00 PM Registration\n\n2:00 PM Shotgun Start\n\n \n\n4 Person Team   $850(Includes 4 Players) - One Licensed GC Per Team Required\n\nMulligan Package: $80 - Need help with your game? The package includes 2 extra strokes per player & enters you in the door prize drawings\n\nPoker Run: $80 - Poker Hands for all of your players\, the best hand at the end of the tournament wins $150!\n\n\n\nBeverage Cart Sponsor   Sold Out\n\n\n\nEagle Sponsor   850 Included in pre-event notices to members. Representation & signage at the designated hole (supplied by sponsor). Recognition in Blueprints Blog & Logo displayed on Tournament Flyer for all players.  *Allowed to have representatives\, food & beverage\, and signage at the hole   supplied by sponsor. Must provide a giveaway for our raffle drawing. \n\n\n\nBreakfast Sponsor   $1\,500 - Still Available!\n\n\n\nCart Sponsor   350 - 4 Still Available!\n\nBirdie Sponsor   250 - 6 Still Available!\n\n\n\nTee Sponsor - $1\,500 - 1 Available!\n\n\n\nGolf Bag Sponsor - $1\,500 - 1 Available!\n\n\n\nMulligan Sponsor - $500 - 1 Availalbe!
X-ALT-DESC;FMTTYPE=text/html:<p><span style="font-family:Arial\,Helvetica\,sans-serif\; font-size:small">Tee off with fellow members for a great day of golf at The Golf Course at The Grove Park Inn.&nbsp\; This highly anticipated &#39\;Captains Choice&#39\; tournament adds a twist to a fun day on the course. Teams of four are flighted by handicap - 1st place team in each flight wins a cash prize of $200! There will be two rounds\, an AM Round and a PM Round. If you sign up for a team and cannot fill it\, please let us know by August 1st so we can find a replacement for your team - otherwise you will be financially responsible for the team after August 1st.&nbsp\;<br />\n<br />\nSocialize with Eagle Sponsors offering donuts\, BBQ\, wings\, beers\, and more throughout the course\, and join in a fun hand of Poker for the Poker Run Challenge.&nbsp\;<br />\n<br />\nNeed help with your game? Teams or individuals can purchase Mulligans for two free shots\, which also enter you in a special Raffle for door prizes following the tournament.</span><br />\n&nbsp\;</p>\n\n<p style="text-align: center\;"><strong><span style="font-size:14px\;"><span style="font-size:16px\;">August 18\, 2022</span><br />\nThe Golf Course at The Grove Park Inn</span><br />\nRound 1: 7 AM Registration&nbsp\;<br />\n8:00 AM Shotgun Start<br />\nRound 2: 1:00 PM Registration<br />\n2:00 PM Shotgun Start</strong><br />\n&nbsp\;</p>\n\n<p><strong><span style="font-family: Arial\, Helvetica\, sans-serif\; font-size: small\;">4 Person Team&nbsp\;</span></strong><span style="font-family: Arial\, Helvetica\, sans-serif\; font-size: small\;">&ndash\;&nbsp\;$850(Includes 4 Players) - One Licensed GC Per Team Required</span></p>\n\n<p><span style="font-family: Arial\, Helvetica\, sans-serif\; font-size: small\;"><strong>Mulligan Package</strong>:&nbsp\;$80&nbsp\;- Need help with your game? The package includes 2 extra strokes per player &amp\; enters you in the&nbsp\;door prize&nbsp\;drawings</span></p>\n\n<p><span style="font-family: Arial\, Helvetica\, sans-serif\; font-size: small\;"><strong>Poker Run</strong>: $80&nbsp\;- Poker Hands for all of your players\, the best hand at the end of the tournament wins $150!</span><br />\n<br />\n<strong><span style="font-family: Arial\, Helvetica\, sans-serif\; font-size: small\;">Beverage Cart Sponsor&nbsp\;</span></strong><span style="font-size: small\; font-family: Arial\, Helvetica\, sans-serif\;">&ndash\; <i>Sold Out</i></span><br />\n<br />\n<strong><span style="font-family: Arial\, Helvetica\, sans-serif\; font-size: small\;">Eagle Sponsor&nbsp\;</span></strong><span style="font-size: small\; font-family: Arial\, Helvetica\, sans-serif\;">&ndash\; 850</span><span style="font-size: small\; font-family: Arial\, Helvetica\, sans-serif\;">&nbsp\;Included in pre-event notices to members. Representation &amp\; signage at the designated hole (supplied by sponsor). Recognition in Blueprints Blog &amp\; Logo displayed on Tournament Flyer for all players. &nbsp\;*Allowed to have representatives\, food &amp\; beverage\, and signage at the hole &ndash\; supplied by sponsor. Must provide a giveaway for our raffle drawing.&nbsp\;</span><br />\n<br />\n<strong><span style="font-family: Arial\, Helvetica\, sans-serif\; font-size: small\;">Breakfast Sponsor&nbsp\;</span></strong><span style="font-size: small\; font-family: Arial\, Helvetica\, sans-serif\;">&ndash\; $1\,500&nbsp\;- Still Available!</span><br />\n<br />\n<strong><span style="font-family: Arial\, Helvetica\, sans-serif\; font-size: small\;">Cart Sponsor&nbsp\;</span></strong><span style="font-family: Arial\, Helvetica\, sans-serif\; font-size: small\;">&ndash\; 350 - 4 Still Available!</span></p>\n\n<p><strong><span style="font-family: Arial\, Helvetica\, sans-serif\; font-size: small\;">Birdie Sponsor</span></strong><span style="font-family: Arial\, Helvetica\, sans-serif\; font-size: small\;">&nbsp\;&ndash\; 250 - 6 Still Available!</span><br />\n<br />\n<strong>Tee Sponsor</strong> -&nbsp\;$1\,500 - 1 Available!<br />\n<br />\n<strong>Golf Bag Sponsor -&nbsp\;</strong>$1\,500 - 1 Available!<br />\n<br />\n<strong>Mulligan Sponsor -&nbsp\;</strong>$500 - 1 Availalbe!</p>\n
LOCATION:
UID:e.9512.3830
SEQUENCE:3
DTSTAMP:20260424T133541Z
URL:https://members.bablueridge.com/events/details/ahba-annual-golf-tournament-3830
END:VEVENT

END:VCALENDAR
