BEGIN:VCALENDAR
VERSION:2.0
PRODID:-//ChamberMaster//Event Calendar 2.0//EN
METHOD:PUBLISH
X-PUBLISHED-TTL:P3D
REFRESH-INTERVAL:P3D
CALSCALE:GREGORIAN
BEGIN:VEVENT
DTSTART:20210520T120000Z
DTEND:20210520T190000Z
X-MICROSOFT-CDO-ALLDAYEVENT:FALSE
SUMMARY:AHBA Annual Golf Tournament
DESCRIPTION:Tee off with fellow members for a great day of golf at Broadmoor Golf Links.  This highly anticipated 'Captains Choice' tournament adds a twist to a fun day on the course. Teams of four are flighted by handicap - 1st place team in each flight wins a cash prize of $200!\n\n\n\nSocialize with Eagle Sponsors offering donuts\, BBQ\, wings\, beers and more throughout the course and join in a fun hand of Poker for the Poker Run Challenge. \n\n\n\nNeed help with your game? Teams or individuals can purchase Mulligans for two free shots\, which also enter you in a special Raffle for door prizes following the tournament.\n\n \n\nMay 20\, 2021\n\nBroadmoor Golf Links\n\n8:15 AM Player Registration \n\n9:15 AM Shotgun Start\n\n2:45 PM Awards and Raffle\n\n \n\n4 Person Team   $550(Includes 4 Players) - One Licensed GC Per Team Required\n\nMulligan Package: $40 - Need help with your game? The package includes 2 extra strokes per player & enters you in the door prize drawings\n\nPoker Run: $40 - Poker Hands for all of your players\, best hand at the end of the tournament wins $150!\n\n\n\nBeverage Cart Sponsor   Sold Out\n\n\n\nEagle Sponsor   $575 Included in pre-event notices to members. Representation & signage at the designated hole (supplied by sponsor). Recognition in Blueprints Blog & Logo displayed on Tournament Flyer for all players.  *Allowed to have representatives\, food & beverage\, and signage at the hole   supplied by sponsor. Must provide a giveaway for our raffle drawing. \n\n\n\nBreakfast Sponsor   $600 - Still Available!\n\n\n\nCart Sponsor   3 left at $250\n\nBirdie Sponsor   2 left at $150\n\n\n\nTee Sponsor - 1 available \n\n\n\nGolf Ball Sponsor - 1 available\n\n\n\nTowel Sponsor - 1 available
X-ALT-DESC;FMTTYPE=text/html:<p><span style="font-family:Arial\,Helvetica\,sans-serif\; font-size:small">Tee off with fellow members for a great day of golf at Broadmoor Golf Links.&nbsp\; This highly anticipated &#39\;Captains Choice&#39\; tournament adds a twist to a fun day on the course. Teams of four are flighted by handicap - 1st place team in each flight wins a cash prize of $200!<br />\n<br />\nSocialize with Eagle Sponsors offering donuts\, BBQ\, wings\, beers and more throughout the course and join in a fun hand of Poker for the Poker Run Challenge.&nbsp\;<br />\n<br />\nNeed help with your game? Teams or individuals can purchase Mulligans for two free shots\, which also enter you in a special Raffle for door prizes following the tournament.</span><br />\n&nbsp\;</p>\n\n<p style="text-align: center\;"><strong><span style="font-size:14px\;"><span style="font-size:16px\;">May 20\, 2021</span><br />\nBroadmoor Golf Links</span><br />\n8:15 AM Player Registration&nbsp\;<br />\n9:15 AM Shotgun Start<br />\n2:45 PM Awards and Raffle</strong><br />\n&nbsp\;</p>\n\n<p><strong><span style="font-family: Arial\, Helvetica\, sans-serif\; font-size: small\;">4 Person Team&nbsp\;</span></strong><span style="font-family: Arial\, Helvetica\, sans-serif\; font-size: small\;">&ndash\;&nbsp\;</span><em><span style="font-family: Arial\, Helvetica\, sans-serif\; font-size: small\;">$550</span></em><span style="font-family: Arial\, Helvetica\, sans-serif\; font-size: small\;">(Includes 4 Players) - One Licensed GC Per Team Required</span></p>\n\n<p><span style="font-family: Arial\, Helvetica\, sans-serif\; font-size: small\;"><strong>Mulligan Package</strong>:&nbsp\;$40 - Need help with your game? The package includes 2 extra strokes per player &amp\; enters you in the&nbsp\;door prize&nbsp\;drawings</span></p>\n\n<p><span style="font-family: Arial\, Helvetica\, sans-serif\; font-size: small\;"><strong>Poker Run</strong>: $40 - Poker Hands for all of your players\, best hand at the end of the tournament wins $150!</span><br />\n<br />\n<strong><span style="font-family: Arial\, Helvetica\, sans-serif\; font-size: small\;">Beverage Cart Sponsor&nbsp\;</span></strong><span style="font-size: small\; font-family: Arial\, Helvetica\, sans-serif\;">&ndash\; <i>Sold Out</i></span><br />\n<br />\n<strong><span style="font-family: Arial\, Helvetica\, sans-serif\; font-size: small\;">Eagle Sponsor&nbsp\;</span></strong><span style="font-size: small\; font-family: Arial\, Helvetica\, sans-serif\;">&ndash\;&nbsp\;</span><em><span style="font-family: Arial\, Helvetica\, sans-serif\; font-size: small\;">$575</span></em><span style="font-size: small\; font-family: Arial\, Helvetica\, sans-serif\;">&nbsp\;Included in pre-event notices to members. Representation &amp\; signage at the designated hole (supplied by sponsor). Recognition in Blueprints Blog &amp\; Logo displayed on Tournament Flyer for all players. &nbsp\;*Allowed to have representatives\, food &amp\; beverage\, and signage at the hole &ndash\; supplied by sponsor. Must provide a giveaway for our raffle drawing.&nbsp\;</span><br />\n<br />\n<strong><span style="font-family: Arial\, Helvetica\, sans-serif\; font-size: small\;">Breakfast Sponsor&nbsp\;</span></strong><span style="font-size: small\; font-family: Arial\, Helvetica\, sans-serif\;">&ndash\; $600 - Still Available!</span><br />\n<br />\n<strong><span style="font-family: Arial\, Helvetica\, sans-serif\; font-size: small\;">Cart Sponsor&nbsp\;</span></strong><span style="font-family: Arial\, Helvetica\, sans-serif\; font-size: small\;">&ndash\; 3<i>&nbsp\;left at $250</i></span></p>\n\n<p><strong><span style="font-family: Arial\, Helvetica\, sans-serif\; font-size: small\;">Birdie Sponsor</span></strong><span style="font-family: Arial\, Helvetica\, sans-serif\; font-size: small\;">&nbsp\;&ndash\;&nbsp\;<em>2 left at $150</em></span><br />\n<br />\n<strong>Tee Sponsor</strong> - <em>1 available</em>&nbsp\;<br />\n<br />\n<strong>Golf Ball Sponsor</strong> - <em>1 available</em><br />\n<br />\n<strong>Towel Sponsor</strong> - <em>1 available&nbsp\;</em></p>\n
LOCATION:
UID:e.9512.3380
SEQUENCE:3
DTSTAMP:20260425T141029Z
URL:https://members.bablueridge.com/events/details/ahba-annual-golf-tournament-3380
END:VEVENT

END:VCALENDAR
