BEGIN:VCALENDAR
VERSION:2.0
PRODID:-//ChamberMaster//Event Calendar 2.0//EN
METHOD:PUBLISH
X-PUBLISHED-TTL:P3D
REFRESH-INTERVAL:P3D
CALSCALE:GREGORIAN
BEGIN:VEVENT
DTSTART:20210617T213000Z
DTEND:20210617T233000Z
X-MICROSOFT-CDO-ALLDAYEVENT:FALSE
SUMMARY:AHBA After Hours at Smoky Park Supper Club
DESCRIPTION:Join us "After Hours" to make connections and build valuable relationships with industry professionals at Smoky Park Supper Club for June's AHBA After Hours. \n\n\n\nEnjoy food and drinks from Smoky Park Supper Club that will be provided by Gennett Lumber and will include beer\, wine\, and soft drinks! Socialize while you expand your business connections and build relationships with area pros in the building industry.  Members from the Asheville HBA and Hendersonville-Transylvania HBA are invited.  \n\n\n\nYou won't want to miss it!\n\n\n\nSponsored by Gennett Lumber
X-ALT-DESC;FMTTYPE=text/html:<p>Join us &quot\;After Hours&quot\; to make connections and build valuable relationships with industry professionals&nbsp\;at<span style="color:#000000\;"> </span>Smoky Park Supper Club<span style="color:#000000\;"> for June&#39\;s&nbsp\;AHBA After Hours.&nbsp\;<br />\n<br />\nEnjoy food and drinks from </span>Smoky Park Supper Club that<span style="color:#000000\;">&nbsp\;will be provided by Gennett Lumber and will include beer\, wine\, and soft drinks!&nbsp\;Socialize while you expand your business connections and build relationships with area pros in the building industry.&nbsp\; Members from the Asheville HBA and Hendersonville-Transylvania HBA a<span style="font-size:14px\;">re inv</span>ited.&nbsp\;&nbsp\;<br />\n<br />\nYou won&#39\;t want to miss it!<br />\n<br />\nSponsored by <a href="https://gennettlumber.com/">Gennett Lumber</a></span></p>\n
LOCATION:Smoky Park Supper Club 350 Riverside Drive #3141 Asheville\, NC 28801
UID:e.9512.3388
SEQUENCE:3
DTSTAMP:20260425T123510Z
URL:https://members.bablueridge.com/events/details/ahba-after-hours-at-smoky-park-supper-club-3388
END:VEVENT

END:VCALENDAR
