BEGIN:VCALENDAR
VERSION:2.0
PRODID:-//ChamberMaster//Event Calendar 2.0//EN
METHOD:PUBLISH
X-PUBLISHED-TTL:P3D
REFRESH-INTERVAL:P3D
CALSCALE:GREGORIAN
BEGIN:VEVENT
DTSTART:20230420T213000Z
DTEND:20230420T233000Z
X-MICROSOFT-CDO-ALLDAYEVENT:FALSE
SUMMARY:AHBA After Hours at Grove Manor Flooring
DESCRIPTION:Join us at this fun networking event sponsored by Grove Manor Flooring to make connections and build valuable relationships with industry professionals.  See and experience firsthand the amazing showrooms and business locations of host member companies while enjoying complimentary food and beverage.  Don't miss out on some great door prize drawings!
X-ALT-DESC;FMTTYPE=text/html:<p><span style="font-size:small\;">Join us at this fun networking event sponsored by Grove Manor Flooring to make connections and build valuable relationships with industry professionals. &nbsp\;See and experience firsthand the amazing showrooms and business locations of host member companies while enjoying complimentary food and beverage.&nbsp\; Don&#39\;t miss out on some great door prize drawings!</span></p>\n
LOCATION:Grove Manor Flooring 116 S Crossing Way Unit B\, Flat Rock\, NC 28731
UID:e.9512.4739
SEQUENCE:3
DTSTAMP:20260424T011612Z
URL:https://members.bablueridge.com/events/details/ahba-after-hours-at-grove-manor-flooring-4739
END:VEVENT

END:VCALENDAR
