BEGIN:VCALENDAR
VERSION:2.0
PRODID:-//ChamberMaster//Event Calendar 2.0//EN
METHOD:PUBLISH
X-PUBLISHED-TTL:P3D
REFRESH-INTERVAL:P3D
CALSCALE:GREGORIAN
BEGIN:VEVENT
DTSTART:20210715T213000Z
DTEND:20210715T233000Z
X-MICROSOFT-CDO-ALLDAYEVENT:FALSE
SUMMARY:AHBA After Hours at Carpet One Floor & Home
DESCRIPTION:Join us at Carpet One Floor & Home showroom for July's AHBA After Hours. \n\n\n\nEnjoy food and beverages that will be provided by Carpet One and will include beer\, wine\, and soft drinks! Giveaways will be available! Enjoy the sounds of The Caribbean Boys while you expand your business connections and build relationships with area pros in the building industry.  Members from the Asheville HBA and Hendersonville-Transylvania HBA are invited.
X-ALT-DESC;FMTTYPE=text/html:<p><span style="color:#000000\;">Join us at Carpet One Floor &amp\; Home showroom for July&#39\;s&nbsp\;AHBA After Hours.&nbsp\;<br />\n<br />\nEnjoy food and beverages that will be provided by Carpet One and will include beer\, wine\, and soft drinks! Giveaways will be available!&nbsp\;Enjoy the sounds of The Caribbean Boys while you expand your business connections and build relationships with area pros in the building industry.&nbsp\; Members from the Asheville HBA and Hendersonville-Transylvania HBA a<span style="font-size:14px\;">re inv</span>ited.&nbsp\;&nbsp\;</span></p>\n
LOCATION:Carpet One Floor & Home 1065 Smokey Park Highway Candler\, NC 28715
UID:e.9512.3389
SEQUENCE:3
DTSTAMP:20260425T123403Z
URL:https://members.bablueridge.com/events/details/ahba-after-hours-at-carpet-one-floor-home-3389
END:VEVENT

END:VCALENDAR
