BEGIN:VCALENDAR
VERSION:2.0
PRODID:-//ChamberMaster//Event Calendar 2.0//EN
METHOD:PUBLISH
X-PUBLISHED-TTL:P3D
REFRESH-INTERVAL:P3D
CALSCALE:GREGORIAN
BEGIN:VEVENT
DTSTART:20200917T213000Z
DTEND:20200917T233000Z
X-MICROSOFT-CDO-ALLDAYEVENT:FALSE
SUMMARY:AHBA After Hours at Carpet One Floor & Home
DESCRIPTION:Join us at Carpet One Floor & Home new showroom for September's AHBA After Hours. \n\n\n\nEnjoy food from Kanini's! Beverages will be provided by Carpet One and will include beer\, wine and soft drinks! Giveaways will include some swag bags\, throw rugs\, and more! Enjoy the sounds of The Carribean Boys while you expand your business connections and build relationships with area pros in the building industry.  Members from the Asheville HBA and Hendersonville-Transylvania HBA are invited.  \n\n\n\nYou won't want to miss it! Builder's are also getting an entry for a special builder's only prize!
X-ALT-DESC;FMTTYPE=text/html:<p><span style="color:#000000\;">Join us at Carpet One Floor &amp\; Home new showroom for September&#39\;s&nbsp\;AHBA After Hours.&nbsp\;<br />\n<br />\nEnjoy food from Kanini&#39\;s! Beverages will be provided by Carpet One and will include beer\, wine and soft drinks! Giveaways will include some swag bags\, throw rugs\, and more!&nbsp\;Enjoy the sounds of The Carribean Boys while you expand your business connections and build relationships with area pros in the building industry.&nbsp\; Members from the Asheville HBA and Hendersonville-Transylvania HBA a<span style="font-size:14px\;">re inv</span>ited.&nbsp\;&nbsp\;<br />\n<br />\nYou won&#39\;t want to miss it! Builder&#39\;s are also getting an entry for a special builder&#39\;s only prize!</span></p>\n
LOCATION:Carpet One Floor & Home 1065 Smokey Park Highway Candler\, NC 28715
UID:e.9512.3099
SEQUENCE:3
DTSTAMP:20260426T023845Z
URL:https://members.bablueridge.com/events/details/ahba-after-hours-at-carpet-one-floor-home-09-17-2020-3099
END:VEVENT

END:VCALENDAR
