BEGIN:VCALENDAR
VERSION:2.0
PRODID:-//ChamberMaster//Event Calendar 2.0//EN
METHOD:PUBLISH
X-PUBLISHED-TTL:P3D
REFRESH-INTERVAL:P3D
CALSCALE:GREGORIAN
BEGIN:VEVENT
DTSTART:20210430T210000Z
DTEND:20210430T230000Z
X-MICROSOFT-CDO-ALLDAYEVENT:FALSE
SUMMARY:AHBA After Hours at Build & Remodel Expo
DESCRIPTION:Join us "After Hours" to make connections and build valuable relationships with industry professionals.  See and experience firsthand the amazing show floor of our 2021 Build & Remodel Expo.  \n\n\n\nMembers\, exhibitors and our Student Chapter are invited to this new event to kick off our 2021 Build & Remodel Expo. Enjoy appetizers and have a beverage while you check out exhibitor booths and network with one another.   \n\n\n\nThis event is not open to the public. RSVP is Required. \n\n\n\nSponsored by 84 Lumber
X-ALT-DESC;FMTTYPE=text/html:<p>Join us &quot\;After Hours&quot\; to make connections and build valuable relationships with industry professionals.&nbsp\; See and experience firsthand the amazing show floor of our <a href="https://www.buildandremodelasheville.com/">2021&nbsp\;Build &amp\; Remodel Expo</a>.&nbsp\;&nbsp\;<br />\n<br />\nMembers\, exhibitors&nbsp\;and our Student Chapter are invited to this new event to kick off our <a href="https://www.buildandremodelasheville.com/">2021&nbsp\;Build &amp\; Remodel Expo</a>. Enjoy appetizers and have a beverage while you check out exhibitor booths and network with one another.&nbsp\;&nbsp\;&nbsp\;<br />\n<br />\nThis event is not open to the public. RSVP is Required.&nbsp\;<br />\n<br />\nSponsored by <a href="https://www.84lumber.com/">84 Lumber</a></p>\n
LOCATION:WNC Ag Center Davis Event Center (Gate 5) 765 Boylston Hwy Fletcher\, NC 28732
UID:e.9512.3362
SEQUENCE:3
DTSTAMP:20260425T154858Z
URL:https://members.bablueridge.com/events/details/ahba-after-hours-at-build-remodel-expo-3362
END:VEVENT

END:VCALENDAR
