BEGIN:VCALENDAR
VERSION:2.0
PRODID:-//ChamberMaster//Event Calendar 2.0//EN
METHOD:PUBLISH
X-PUBLISHED-TTL:P3D
REFRESH-INTERVAL:P3D
CALSCALE:GREGORIAN
BEGIN:VEVENT
DTSTART:20230322T123000Z
DTEND:20230322T133000Z
X-MICROSOFT-CDO-ALLDAYEVENT:FALSE
SUMMARY:ACE Class - Strategic Opportunity in Real Estate
DESCRIPTION:Join us for a macro overview of different sectors within private real estate. Highlighting the trends for the upcoming year and where your opportunities are for investing. We will touch on housing as it relates to single-family\, multifamily\, and trends in the South. Taught by Cristian Rubiano of Merrill Lynch.\n\n\n\nYou must register to attend.\n\nOne hour education classes are offered on the 4th Wednesday of the month. Coffee and donuts provided.
X-ALT-DESC;FMTTYPE=text/html:<p><span style="color: rgb(34\, 34\, 34)\; font-family: Arial\, Helvetica\, sans-serif\; font-size: small\; background-color: rgb(255\, 255\, 255)\;"><span style="font-size:14px\;">Join us for a macro overview of different sectors within private real estate. Highlighting the trends for the upcoming year and where your opportunities are for investing. We will touch on housing as it relates to single-family\, multifamily\, and trends in the South. Taught by Cristian Rubiano of Merrill Lynch.</span></span><br />\n<br />\n<span style="font:13.33px/normal arial\, sans\, sans-serif\;text-align:left\;color:#000000\;text-transform:none\;text-indent:0px\;letter-spacing:normal\;word-spacing:0px\;float:none\;display:inline !important\;white-space:pre-wrap\;background-color:#ffffff\;-webkit-text-stroke-width:0px\;"><em><strong>You must register to attend.</strong></em></span></p>\n\n<p><span style="font:13.33px/normal arial\, sans\, sans-serif\;text-align:left\;color:#000000\;text-transform:none\;text-indent:0px\;letter-spacing:normal\;word-spacing:0px\;float:none\;display:inline !important\;white-space:pre-wrap\;background-color:#ffffff\;-webkit-text-stroke-width:0px\;"><em>O</em></span><em>ne</em><span style="font:italic 13.33px/normal arial\, sans\, sans-serif\;text-align:left\;color:#000000\;text-transform:none\;text-indent:0px\;letter-spacing:normal\;word-spacing:0px\;float:none\;display:inline !important\;white-space:pre-wrap\;background-color:#ffffff\;-webkit-text-stroke-width:0px\;"> hour education classes are offered on the 4th Wednesday of the month. Coffee and donuts provided. </span></p>\n
LOCATION:Asheville Home Builders Association 14 Mimidis Lane\, Swannanoa\, NC 28787
UID:e.9512.4735
SEQUENCE:3
DTSTAMP:20260424T040744Z
URL:https://members.bablueridge.com/events/details/ace-class-strategic-opportunity-in-real-estate-4735
END:VEVENT

END:VCALENDAR
