BEGIN:VCALENDAR
VERSION:2.0
PRODID:-//ChamberMaster//Event Calendar 2.0//EN
METHOD:PUBLISH
X-PUBLISHED-TTL:P3D
REFRESH-INTERVAL:P3D
CALSCALE:GREGORIAN
BEGIN:VEVENT
DTSTART:20210324T180000Z
DTEND:20210324T190000Z
X-MICROSOFT-CDO-ALLDAYEVENT:FALSE
SUMMARY:ACE Class: Overview of Building Permit Trends in Western NC
DESCRIPTION:Join us 03/24/21 @ 2:00 pm for an Overview of the Western NC Housing Market featuring Dale Akins\, President of The Market Edge\, Knoxville\, TN.   The program will include Regional building permit trends\, employment analysis\, builder and subdivision rankings\, and a discussion of the year ahead.
X-ALT-DESC;FMTTYPE=text/html:Join us 03/24/21 @ 2:00 pm for an Overview of the Western NC Housing Market featuring Dale Akins\, President of The Market Edge\, Knoxville\, TN.&nbsp\; &nbsp\;The program will include Regional building permit trends\, employment analysis\, builder and subdivision rankings\, and a discussion of the year ahead.
LOCATION:Zoom info will be sent the day of to all registrants.
UID:e.9512.3359
SEQUENCE:3
DTSTAMP:20260425T170754Z
URL:https://members.bablueridge.com/events/details/ace-class-overview-of-building-permit-trends-in-western-nc-3359
END:VEVENT

END:VCALENDAR
