BEGIN:VCALENDAR
VERSION:2.0
PRODID:-//ChamberMaster//Event Calendar 2.0//EN
METHOD:PUBLISH
X-PUBLISHED-TTL:P3D
REFRESH-INTERVAL:P3D
CALSCALE:GREGORIAN
BEGIN:VEVENT
DTSTART:20210721T123000Z
DTEND:20210721T133000Z
X-MICROSOFT-CDO-ALLDAYEVENT:FALSE
SUMMARY:ACE Class: Marketing and Social Media
DESCRIPTION:Let's talk Marketing! Our very own Bonnie Roberson will break down some basic techniques for Social Media marketing.\n\n\n\nBring your questions. Breakfast and coffee will be provided.
X-ALT-DESC;FMTTYPE=text/html:Let&#39\;s talk Marketing! Our very own Bonnie Roberson will break down some basic techniques for Social Media marketing.<br />\n<br />\nBring your questions. Breakfast and coffee will be provided.
LOCATION:AHBA Office\, upstairs classroom 14 Mimidis Lane\, Swannanoa\, NC 28778
UID:e.9512.3427
SEQUENCE:3
DTSTAMP:20260425T111748Z
URL:https://members.bablueridge.com/events/details/ace-class-marketing-and-social-media-3427
END:VEVENT

END:VCALENDAR
