BEGIN:VCALENDAR
VERSION:2.0
PRODID:-//ChamberMaster//Event Calendar 2.0//EN
METHOD:PUBLISH
X-PUBLISHED-TTL:P3D
REFRESH-INTERVAL:P3D
CALSCALE:GREGORIAN
BEGIN:VEVENT
DTSTART:20200930T123000Z
DTEND:20200930T133000Z
X-MICROSOFT-CDO-ALLDAYEVENT:FALSE
SUMMARY:ACE Class: How to connect with members of the AHBA
DESCRIPTION:Join us to learn about a new platform for AHBA members to connect with one another. Have you used Facebook? This new platform is similar and will allow you to stay in the know more easily. \n\n\n\nBring your questions.
X-ALT-DESC;FMTTYPE=text/html:Join us to learn about a new platform for AHBA members to connect with one another. Have you used Facebook? This new platform is similar and will allow you to stay in the know more easily.&nbsp\;<br />\n<br />\nBring your questions.&nbsp\;&nbsp\;&nbsp\;&nbsp\;&nbsp\;
LOCATION:
UID:e.9512.3186
SEQUENCE:3
DTSTAMP:20260426T023847Z
URL:https://members.bablueridge.com/events/details/ace-class-how-to-connect-with-members-of-the-ahba-3186
END:VEVENT

END:VCALENDAR
