BEGIN:VCALENDAR
VERSION:2.0
PRODID:-//ChamberMaster//Event Calendar 2.0//EN
METHOD:PUBLISH
X-PUBLISHED-TTL:P3D
REFRESH-INTERVAL:P3D
CALSCALE:GREGORIAN
BEGIN:VEVENT
DTSTART:20200826T123000Z
DTEND:20200826T133000Z
X-MICROSOFT-CDO-ALLDAYEVENT:FALSE
SUMMARY:ACE Class - Green Built Homes is Leaner and Greener
DESCRIPTION:Learn what it takes to certify a Green Built Home in 2021.  The Green Built Alliance recently released an updated version of its program checklist.  Many items that are now standard construction practices have been removed from our checklist\, while we have added opportunities to gain points for new technologies. The program now places more emphasis on regenerative elements\, including the addition of a Net Zero Water Ready Certification and a pilot Regenerative Certification.  Join us to learn what's new!\n\n\n\n\n\n\n\n\n\n\n*Continuing Education Credit available towards your NCBI Designation
X-ALT-DESC;FMTTYPE=text/html:<div class="gmail_default" style="color: rgb(34\, 34\, 34)\; font-size: 12.8px\; font-family: arial\, helvetica\, sans-serif\;">\n<div style="color: rgb(34\, 34\, 34)\; font-family: arial\, sans-serif\; font-size: 12.8px\;"><span style="font-size: large\; color: rgb(32\, 32\, 32)\; font-family: Helvetica\; text-align: center\;">Learn what it takes to certify a Green Built Home in 2021.&nbsp\; The Green Built Alliance recently released an updated version of its program checklist.&nbsp\; Many items that are now standard construction practices have been&nbsp\;removed from our checklist\, while we have added opportunities to gain points for new technologies.</span><span style="font-size: large\; color: rgb(32\, 32\, 32)\; font-family: Helvetica\; text-align: center\;">&nbsp\;T</span><span style="font-size: large\; color: rgb(32\, 32\, 32)\; font-family: Helvetica\; text-align: center\;">he program now places more emphasis on regenerative elements\, including the addition of a Net Zero Water Ready Certification and a pilot Regenerative Certification.&nbsp\; Join us to learn what&#39\;s new!</span></div>\n<br />\n<br />\n<br />\n<br />\n<br />\n<span style="font-size:14px\;"><em><strong>*Continuing Education Credit available towards your&nbsp\;NCBI Designation</strong></em></span><br />\n&nbsp\;</div>\n
LOCATION:Zoom Information to be sent to registered attendees!
UID:e.9512.3167
SEQUENCE:3
DTSTAMP:20260426T041053Z
URL:https://members.bablueridge.com/events/details/ace-class-green-built-homes-is-leaner-and-greener-3167
END:VEVENT

END:VCALENDAR
