BEGIN:VCALENDAR
VERSION:2.0
PRODID:-//ChamberMaster//Event Calendar 2.0//EN
METHOD:PUBLISH
X-PUBLISHED-TTL:P3D
REFRESH-INTERVAL:P3D
CALSCALE:GREGORIAN
BEGIN:VEVENT
DTSTART:20220727T123000Z
DTEND:20220727T133000Z
X-MICROSOFT-CDO-ALLDAYEVENT:FALSE
SUMMARY:ACE Class: Common Inspections Issues presented by the City & County Inspectors
DESCRIPTION:Join us to hear from the City of Asheville and Buncombe County Inspectors on the most common mistakes that prevent your home from passing inspection. Cut down on the number of visits and time you spend by learning these tips and tricks. Open forum to follow where you can ask your questions and provide constructive feedback.
X-ALT-DESC;FMTTYPE=text/html:Join us to hear from the City of Asheville and Buncombe County Inspectors on the most common mistakes that prevent your home from passing inspection. Cut down on the number of visits and time you spend by learning these tips and tricks. Open forum to follow where you can ask your questions and provide constructive feedback.&nbsp\;
LOCATION:AHBA Office 14 Mimidis Lane\, Swannanoa NC
UID:e.9512.3850
SEQUENCE:3
DTSTAMP:20260424T153548Z
URL:https://members.bablueridge.com/events/details/ace-class-common-inspections-issues-presented-by-the-city-county-inspectors-3850
END:VEVENT

END:VCALENDAR
