BEGIN:VCALENDAR
VERSION:2.0
PRODID:-//ChamberMaster//Event Calendar 2.0//EN
METHOD:PUBLISH
X-PUBLISHED-TTL:P3D
REFRESH-INTERVAL:P3D
CALSCALE:GREGORIAN
BEGIN:VEVENT
DTSTART:20220323T123000Z
DTEND:20220323T133000Z
X-MICROSOFT-CDO-ALLDAYEVENT:FALSE
SUMMARY:ACE Class - After the Storm-Lessons Learned about Building for High Wind Resistance
DESCRIPTION:Sponsored by HomeTrust Bank\n\nPresented by Warren Hamrick\, APA\n\n\n\nAfter the Storm-Lessons Learned about Building for High Wind Resistance \n\nThis session will discuss structural failures observed during storm damage assessments and the behavior of wood structures during high wind events.  An overview of how high wind forces work\, the importance of a complete load path\, and how good design and construction practices can improve the storm resistance of buildings will be provided.  Both code requirements and APA's above-code recommendations which contribute to improved overall performance in the structural shell will be discussed. They focus on good connection details and common failure modes seen in storm damage assessments and help builders cost effectively build a safer home. By understanding key code requirements and lateral load concepts\, home damage in future storms can be minimized.
X-ALT-DESC;FMTTYPE=text/html:<div class="gmail_default" style="color: rgb(34\, 34\, 34)\; font-size: 12.8px\; font-family: arial\, helvetica\, sans-serif\;">\n<div style="color: rgb(34\, 34\, 34)\; font-family: arial\, sans-serif\; font-size: 12.8px\;">\n<p dir="ltr" style="line-height:1.295\;margin-top:0pt\;margin-bottom:8pt\;"><br />\n<span style="font-size:16px\;"><span style="font-family:arial\;"><span id="docs-internal-guid-03e6f608-7fff-820c-b20d-0462d9c87975"><span style="font-variant-numeric: normal\; font-variant-east-asian: normal\; vertical-align: baseline\; white-space: pre-wrap\;">Sponsored by <a href="https://htb.com/">HomeTrust Bank</a><br />\nPresented by Warren Hamrick\, APA</span></span><br />\n<br />\n<strong>After the Storm-Lessons Learned about Building for High Wind Resistance&nbsp\;</strong><br />\nThis session will discuss structural failures observed during storm damage assessments and the behavior of wood structures during high wind events.&nbsp\; An overview of how high wind forces work\, the importance of a complete load path\, and how good design and construction practices can improve the storm resistance of buildings will be provided.&nbsp\; Both code requirements and APA&rsquo\;s above-code recommendations which contribute to improved overall performance in the structural shell will be discussed. They focus on good connection details and common failure modes seen in storm damage assessments and help builders cost effectively build a safer home. By understanding key code requirements and lateral load concepts\, home damage in future storms can be minimized.</span></span></p>\n</div>\n</div>\n
LOCATION:AHBA Office 14 Mimidis Lane Swannanoa NC
UID:e.9512.3822
SEQUENCE:3
DTSTAMP:20260424T221659Z
URL:https://members.bablueridge.com/events/details/ace-class-after-the-storm-lessons-learned-about-building-for-high-wind-resistance-3822
END:VEVENT

END:VCALENDAR
