BEGIN:VCALENDAR
VERSION:2.0
PRODID:-//ChamberMaster//Event Calendar 2.0//EN
METHOD:PUBLISH
X-PUBLISHED-TTL:P3D
REFRESH-INTERVAL:P3D
CALSCALE:GREGORIAN
BEGIN:VEVENT
DTSTART:20201028T123000Z
DTEND:20201028T133000Z
X-MICROSOFT-CDO-ALLDAYEVENT:FALSE
SUMMARY:A.C.E. Class: 2021 Health Insurance & What You Need to Know
DESCRIPTION:Join us for this month's ACE Class on the topic of 2021 Health Insurance and What You Need to Know! \n\n2021 presents the most important and interesting year for health insurance and employee benefits ever!  With the explosion of ACA carriers available in our NC individual and family market from just one monopoly over the past four years to six (6!) in 2021\, there is finally a choice available to those without traditional group coverage offered.  Combined with the continued growth of offerings in the Off-Marketplace and Alternatives markets\, there are now more options than ever before.\n\n \n\nFor employers\, the expansion of HRA offerings with tax deductible benefits - including the ICHRA\, EBHRA\, QSEHRA and GCHRA - present flexibility and budget forecasting unavailable unattainable in the Employee Benefits markets previously. Imagine giving your employees tax-deductible benefits and their own choice of plan(s) for their unique scenario.\n\n\n\nView an online presentation by the professionals at Hummingbird Insurance and Integrative Family Medicine of Asheville as they give a quick dive into the changes coming up in the healthcare markets for 2021 and beyond.  Free to attend\, the information and knowledge gained will be invaluable as you navigate the myriad options available next year...\n\n \n\nSpecial Thanks to the 2020 ACE Series Sponsor\, HomeTrust Bank
X-ALT-DESC;FMTTYPE=text/html:<p>Join us for this month&#39\;s ACE Class on the topic of <strong>2021 Health</strong>&nbsp\;<strong>Insurance and What You Need to Know</strong>!&nbsp\;</p>\n\n<p dir="ltr" style="color: rgb(0\, 0\, 0)\; font-family: arial\, helvetica\, sans-serif\; font-size: small\; line-height: 1.38\; margin-top: 0pt\; margin-bottom: 0pt\;"><span style="font-size: 11pt\; font-family: Arial\; background-color: transparent\; font-variant-numeric: normal\; font-variant-east-asian: normal\; vertical-align: baseline\; white-space: pre-wrap\;">2021 presents the most important and interesting year for health insurance and employee benefits ever!&nbsp\; With the explosion of ACA carriers available in our NC individual and family market from just one monopoly over the past four years to six (6!) in 2021\, there is finally a choice available to those without traditional group coverage offered.&nbsp\; Combined with the continued growth of offerings in the Off-Marketplace and Alternatives markets\, there are now more options than ever before.</span></p>\n\n<p dir="ltr" style="color: rgb(0\, 0\, 0)\; font-family: arial\, helvetica\, sans-serif\; font-size: small\; line-height: 1.38\; margin-top: 0pt\; margin-bottom: 0pt\;">&nbsp\;</p>\n\n<p dir="ltr" style="color: rgb(0\, 0\, 0)\; font-family: arial\, helvetica\, sans-serif\; font-size: small\; line-height: 1.38\; margin-top: 0pt\; margin-bottom: 0pt\;"><span style="font-size: 11pt\; font-family: Arial\; background-color: transparent\; font-variant-numeric: normal\; font-variant-east-asian: normal\; vertical-align: baseline\; white-space: pre-wrap\;">For employers\, the expansion of HRA offerings with tax deductible benefits - including the ICHRA\, EBHRA\, QSEHRA and GCHRA - present flexibility and budget forecasting unavailable unattainable in the Employee Benefits markets previously. Imagine giving your employees tax-deductible benefits and their own choice of plan(s) for their unique scenario.</span></p>\n\n<p dir="ltr" style="color: rgb(0\, 0\, 0)\; font-family: arial\, helvetica\, sans-serif\; font-size: small\; line-height: 1.38\; margin-top: 0pt\; margin-bottom: 0pt\;"><br />\n<span style="font-size: 11pt\; font-family: Arial\; background-color: transparent\; font-variant-numeric: normal\; font-variant-east-asian: normal\; vertical-align: baseline\; white-space: pre-wrap\;">View an online presentation by the professionals at Hummingbird Insurance and Integrative Family Medicine of Asheville as they give a quick dive into the changes coming up in the healthcare markets for 2021 and beyond.&nbsp\; Free to attend\, the information and knowledge gained will be invaluable as you navigate the myriad options available next year...</span></p>\n\n<p>&nbsp\;</p>\n\n<p><span style="font-size:14px\;"><u><strong>Special Thanks&nbsp\;to the 2020&nbsp\;ACE Series Sponsor\, <a href="https://www.htb.com/">HomeTrust Bank</a></strong></u></span></p>\n\n<p>&nbsp\;</p>\n
LOCATION:Zoom call instructions will be sent out before the class
UID:e.9512.3192
SEQUENCE:3
DTSTAMP:20260426T023845Z
URL:https://members.bablueridge.com/events/details/a-c-e-class-2021-health-insurance-what-you-need-to-know-3192
END:VEVENT

END:VCALENDAR
