BEGIN:VCALENDAR
VERSION:2.0
PRODID:-//ChamberMaster//Event Calendar 2.0//EN
METHOD:PUBLISH
X-PUBLISHED-TTL:P3D
REFRESH-INTERVAL:P3D
CALSCALE:GREGORIAN
BEGIN:VEVENT
DTSTART;VALUE=DATE:20221018
DTEND;VALUE=DATE:20221021
TRANSP:TRANSPARENT
X-MICROSOFT-CDO-ALLDAYEVENT:TRUE
SUMMARY:21st Century Building Expo & Conference
DESCRIPTION:The 21st Century Building Expo & Conference is the premier networking and educational event for the home building industry in the Southeast! Builders\, developers\, remodelers\, real estate agents\, trade contractors\, and other industry professionals from North Carolina\, South Carolina\, Virginia\, Georgia & Tennessee will converge in Charlotte for this annual event in September.\n\n\n\nThe three-day educational conference offers NAHB Education courses\, North Carolina Builder Institute courses\, and general session seminars to keep all industry professionals up-to-date on the latest trends\, techniques\, and products for the building industry. The Expo Floor\, open for two days\, showcases the latest products and services from suppliers and manufacturers serving the home building industry. In addition\, the invaluable networking at the STARS Awards Gala and Kick-Off Celebration will keep you coming back year after year!\n\n\n\nThe 21CBEC is hosted by the North Carolina Home Builders Association\, the largest state association in the federation of home builders associations.
X-ALT-DESC;FMTTYPE=text/html:The 21st Century Building Expo &amp\; Conference is the premier networking and educational event for the home building industry in the Southeast! Builders\, developers\, remodelers\, real estate agents\, trade contractors\, and other industry professionals from North Carolina\, South Carolina\, Virginia\, Georgia &amp\; Tennessee will converge in Charlotte for this annual event in September.<br />\n<br />\nThe three-day educational conference offers NAHB Education courses\, North Carolina Builder Institute courses\, and general session seminars to keep all industry professionals up-to-date on the latest trends\, techniques\, and products for the building industry. The Expo Floor\, open for two days\, showcases the latest products and services from suppliers and manufacturers serving the home building industry. In addition\, the invaluable networking at the STARS Awards Gala and Kick-Off Celebration will keep you coming back year after year!<br />\n<br />\nThe 21CBEC is hosted by the North Carolina Home Builders Association\, the largest state association in the federation of home builders associations.
LOCATION:All events will be held at the Embassy Suites Hotel/Concord Convention Center located at 5400 John Q. Hammons Drive NW\, Concord\, NC 28027
UID:e.9512.4096
SEQUENCE:3
DTSTAMP:20260424T103423Z
URL:https://members.bablueridge.com/events/details/21st-century-building-expo-conference-4096
END:VEVENT

END:VCALENDAR
