BEGIN:VCALENDAR
VERSION:2.0
PRODID:-//ChamberMaster//Event Calendar 2.0//EN
METHOD:PUBLISH
X-PUBLISHED-TTL:P3D
REFRESH-INTERVAL:P3D
CALSCALE:GREGORIAN
BEGIN:VEVENT
DTSTART:20210322T203000Z
DTEND:20210405T204500Z
X-MICROSOFT-CDO-ALLDAYEVENT:FALSE
SUMMARY:2021 Sporting Clays Gun Raffle!
DESCRIPTION:As we ramp up for this year's Sporting Clays Tournament on April 1st we are excited to offer a chance for our members to win a new gun or two. \n\n\n\nThe second gun\, valued at around $1500\, is a showstopper.  The Browning Maxus has a sharp matte black finish with etched gold bird details. This gun also comes with a hard carrying case. This gun is a stunner. To buy a raffle ticket for this gun\, please register on this event page. You can purchase 1 ticket for $50 or 5 for $200.\n\n\n\nDon't miss your chance to snag one or both of these guns for a great deal.\n\n\n\nThe raffle will run through 4 pm on Friday\, May 1st 2021.  Have questions? Give us a buzz at the office.
X-ALT-DESC;FMTTYPE=text/html:As we ramp up for this year&rsquo\;s Sporting Clays Tournament on April 1st we are excited to offer a chance for our members to win a new gun or two.&nbsp\;<br />\n<br />\nThe second gun\, valued at around $1500\, is a showstopper.&nbsp\; The Browning Maxus has a sharp matte black finish with etched gold bird details. This gun also comes with a hard carrying case. This gun is a stunner. To buy a raffle ticket for this gun\, please register on this event page. You can purchase 1 ticket for $50 or 5 for $200.<br />\n<br />\nDon&rsquo\;t miss your chance to snag one or both of these guns for a great deal.<br />\n<br />\nThe raffle will run through 4 pm on Friday\, May 1st 2021.&nbsp\; Have questions? Give us a buzz at the office.
LOCATION:
UID:e.9512.3357
SEQUENCE:3
DTSTAMP:20260425T154631Z
URL:https://members.bablueridge.com/events/details/2021-sporting-clays-gun-raffle-3357
END:VEVENT

END:VCALENDAR
