BEGIN:VCALENDAR
VERSION:2.0
PRODID:-//ChamberMaster//Event Calendar 2.0//EN
METHOD:PUBLISH
X-PUBLISHED-TTL:P3D
REFRESH-INTERVAL:P3D
CALSCALE:GREGORIAN
BEGIN:VEVENT
DTSTART:20210318T210000Z
DTEND:20210401T211500Z
X-MICROSOFT-CDO-ALLDAYEVENT:FALSE
SUMMARY:2021 Sporting Clays Gun Raffle!
DESCRIPTION:As we ramp up for this year's Sporting Clays Tournament on April 1st\, 2021 we are excited to offer a chance for our members to win a new gun or two. The first gun\, a Tristar Arms 12 gauge model TT-15 weighing in just under 8lbs with a 30" valued at just under $1\,000. It will be raffled off for NC Build PAC. The Political Action Committee of the North Carolina Home Builders Association (NC BUILD-PAC) is a non-partisan committee organized for the specific purpose of raising funds to support pro-housing candidates of all parties at the state and local levels of government. A portion of your donation will come back to our area to support local candidates as well. These funds must be personal funds. You won't want to miss this gun with its beautiful etching details and sleek design\, it is sure to help you hit more targets than ever before! Purchase your ticket today for just $25 or 5 for $100.  Please fill out this PDF to be eligible. You must send a copy of this completed document to info@ashevillehba.com to be registered for the raffle.
X-ALT-DESC;FMTTYPE=text/html:As we ramp up for this year&rsquo\;s Sporting Clays Tournament on April 1st\, 2021 we are excited to offer a chance for our members to win a new gun or two. The first gun\, a Tristar Arms 12 gauge model TT-15 weighing in just under 8lbs with a 30&rdquo\; valued at just under $1\,000. It will be raffled off for NC Build PAC. The Political Action Committee of the North Carolina Home Builders Association (NC BUILD-PAC) is a non-partisan committee organized for the specific purpose of raising funds to support pro-housing candidates of all parties at the state and local levels of government. A portion of your donation will come back to our area to support local candidates as well. These funds must be personal funds. You won&rsquo\;t want to miss this gun with its beautiful etching details and sleek design\, it is sure to help you hit more targets than ever before! Purchase your ticket today for just $25 or 5 for $100.&nbsp\;&nbsp\;<strong>Please fill out <u><a href="https://chambermaster.blob.core.windows.net/userfiles/UserFiles/chambers/9512/File/2021-Contribution-Form_fillable2.pdf">this PDF</a></u> to be eligible. You must send a copy of this completed document to info@ashevillehba.com to be registered for the raffle.</strong>
LOCATION:Biltmore Sporting Clays Club 1 Approach Rd Asheville\, NC 28803
UID:e.9512.3356
SEQUENCE:3
DTSTAMP:20260425T154637Z
URL:https://members.bablueridge.com/events/details/2021-sporting-clays-gun-raffle-3356
END:VEVENT

END:VCALENDAR
