BEGIN:VCALENDAR
VERSION:2.0
PRODID:-//ChamberMaster//Event Calendar 2.0//EN
METHOD:PUBLISH
X-PUBLISHED-TTL:P3D
REFRESH-INTERVAL:P3D
CALSCALE:GREGORIAN
BEGIN:VEVENT
DTSTART:20191202T133000Z
DTEND:20191202T220000Z
X-MICROSOFT-CDO-ALLDAYEVENT:FALSE
SUMMARY:Rescheduled: Trade Contractor Relationships
DESCRIPTION:This class has been Canceled  \n\n\n\nNCBI Course | PM 303 \n\nTrade Contractor Relationships\n\nIn today's construction industry\, changing technologies\, increased litigation and desperation to find good\, quality labor has made good Trade Contractor relations more important than ever. This course will focus on the ups and downs general contractors face in finding good trade contractors and training them in communications\, scheduling and understanding the legal challenges\, all while building long-lasting relationships with the trades.\n\n\n\nDesignations AMB\, AMA
X-ALT-DESC;FMTTYPE=text/html:<span style="color:#B22222\;"><span style="font-size:20px\;"><strong>This class has been Canceled</strong>&nbsp\;&nbsp\;</span></span><br />\n<br />\n<strong>NCBI Course | PM 303&nbsp\;</strong><br />\nTrade Contractor Relationships<br />\nIn today&#39\;s construction industry\, changing technologies\, increased litigation and desperation to find good\, quality labor has made good Trade Contractor relations more important than ever. This course will focus on the ups and downs general contractors face in finding good trade contractors and training them in communications\, scheduling and understanding the legal challenges\, all while building long-lasting relationships with the trades.<br />\n<br />\n<strong>Designations AMB\, AMA&nbsp\;</strong>
LOCATION:AHBA Office 14 Mimidis Lane Swannanoa\, NC 28778
UID:e.9512.2714
SEQUENCE:3
DTSTAMP:20260424T230139Z
URL:http://members.bablueridge.com/events/details/rescheduled-trade-contractor-relationships-2714
END:VEVENT

END:VCALENDAR
