BEGIN:VCALENDAR
VERSION:2.0
PRODID:-//ChamberMaster//Event Calendar 2.0//EN
METHOD:PUBLISH
X-PUBLISHED-TTL:P3D
REFRESH-INTERVAL:P3D
CALSCALE:GREGORIAN
BEGIN:VEVENT
DTSTART:20230329T200000Z
DTEND:20230329T220000Z
X-MICROSOFT-CDO-ALLDAYEVENT:FALSE
SUMMARY:Builders & Brews
DESCRIPTION:This is for Builders Only. A chance to bounce ideas about the newest in building technology off your fellow builders. Share tips\, vendors\, suppliers (maybe)\, and ask questions yourself over some local Asheville Beer. Discuss what's new in code\, what you love about the Home Builders Association and even things that bother you in the industry today. \n\n\n\nThis group will meet every other month as a supplement for Government Affairs.
X-ALT-DESC;FMTTYPE=text/html:<strong>This is for Builders Only.</strong> A chance to bounce ideas about the newest in building technology off your fellow builders. Share tips\, vendors\, suppliers (maybe)\, and ask questions yourself over some local Asheville Beer. Discuss what&#39\;s new in code\, what you love about the Home Builders Association and even things that bother you in the industry today.&nbsp\;<br />\n<br />\nThis group will meet every other month as a supplement for Government Affairs.&nbsp\;
LOCATION:Thirsty Monk South Biltmore Park
UID:e.9512.3713
SEQUENCE:3
DTSTAMP:20260421T014117Z
URL:http://members.bablueridge.com/events/details/builders-brews-02-15-2023-3713
END:VEVENT

END:VCALENDAR
