BEGIN:VCALENDAR
VERSION:2.0
PRODID:-//ChamberMaster//Event Calendar 2.0//EN
METHOD:PUBLISH
X-PUBLISHED-TTL:P3D
REFRESH-INTERVAL:P3D
CALSCALE:GREGORIAN
BEGIN:VEVENT
DTSTART:20260520T123000Z
DTEND:20260520T133000Z
X-MICROSOFT-CDO-ALLDAYEVENT:FALSE
SUMMARY:ACE Class - Business Governance 101: Best Practices for LLCs and Corporations
DESCRIPTION:Business Governance 101: Best Practices for LLCs and Corporations\n\n\n\nIs your business set up to operate smoothly\, stay compliant\, and protect its owners?\n\nStrong business governance is the foundation of a legally sound and well-run company\, but many businesses aren't sure where to start. This presentation will break down what business governance really means\, why it matters\, and the key structures that keep companies compliant\, protected\, and operating efficiently. We'll also highlight common pitfalls to avoid so your business can stay on solid ground as it grows.\n\n\nTaught by Ron Skufca with Skufca Law\, PLLC\n  \n\nSponsored by Best Buy Metals
X-ALT-DESC;FMTTYPE=text/html:<span style="font-size:16px\;"><span style="font-family:arial\;"><strong>Business Governance 101: Best Practices for LLCs and Corporations</strong><br />\n<br />\nIs your business set up to operate smoothly\, stay compliant\, and protect its owners?<br />\nStrong business governance is the foundation of a legally sound and well-run company\, but many businesses aren&rsquo\;t sure where to start. This presentation will break down what business governance really means\, why it matters\, and the key structures that keep companies compliant\, protected\, and operating efficiently. We&rsquo\;ll also highlight common pitfalls to avoid so your business can stay on solid ground as it grows.</span></span>\n<p dir="ltr" style="line-height:1.3900000000000001\;margin-top:0pt\;margin-bottom:8pt\;"><br />\n<span style="font-size:16px\;"><span style="font-family:arial\;"><span id="docs-internal-guid-517054ff-7fff-0a90-4879-74274fbcb995"><span style="color: rgb(0\, 0\, 0)\; background-color: transparent\; font-weight: 700\; font-variant-numeric: normal\; font-variant-east-asian: normal\; font-variant-alternates: normal\; font-variant-position: normal\; font-variant-emoji: normal\; vertical-align: baseline\; white-space-collapse: preserve\;">Taught by Ron Skufca with Skufca Law\, PLLC</span></span></span></span></p>\n<span style="font-size:16px\;"><span style="font-family:arial\;"> &nbsp\;</span></span>\n\n<p dir="ltr" style="line-height:1.3900000000000001\;margin-top:0pt\;margin-bottom:8pt\;"><span style="font-size:16px\;"><span style="font-family:arial\;"><span id="docs-internal-guid-517054ff-7fff-0a90-4879-74274fbcb995"><span style="color: rgb(0\, 0\, 0)\; background-color: transparent\; font-weight: 700\; font-variant-numeric: normal\; font-variant-east-asian: normal\; font-variant-alternates: normal\; font-variant-position: normal\; font-variant-emoji: normal\; vertical-align: baseline\; white-space-collapse: preserve\;">Sponsored by Best Buy Metals</span></span></span></span></p>\n
LOCATION:BABRM Classroom 39 Glendale Ave\, Asheville 28803
UID:e.9512.5557
SEQUENCE:3
DTSTAMP:20260423T184255Z
URL:http://members.bablueridge.com/events/details/ace-class-business-governance-101-best-practices-for-llcs-and-corporations-5557
END:VEVENT

END:VCALENDAR
